BEGIN:VCALENDAR
VERSION:2.0
PRODID:-//Squarespace Inc/Squarespace 6//v6//EN
BEGIN:VEVENT
UID:5b5a7a430e2e7212a76a9c28@squarespace.com
DTSTAMP:20180727T015016Z
DTSTART:20180804T230000Z
DTEND:20180805T070000Z
SUMMARY:SEMI FINALS (week 1)
END:VEVENT
END:VCALENDAR
