BEGIN:VCALENDAR
VERSION:2.0
PRODID:-//Squarespace Inc/Squarespace 6//v6//EN
BEGIN:VEVENT
UID:5b5a7ace2b6a28ee177a44b1@squarespace.com
DTSTAMP:20180727T015228Z
DTSTART:20180825T230000Z
DTEND:20180826T070000Z
SUMMARY:GRAND FINALS
END:VEVENT
END:VCALENDAR
