BEGIN:VCALENDAR
VERSION:2.0
PRODID:-//Squarespace Inc/Squarespace 6//v6//EN
BEGIN:VEVENT
UID:5b5a7ab56d2a73a8bb13de3e@squarespace.com
DTSTAMP:20180727T015202Z
DTSTART:20180818T230000Z
DTEND:20180819T070000Z
SUMMARY:PRELIMINARY FINALS
END:VEVENT
END:VCALENDAR
