BEGIN:VCALENDAR
VERSION:2.0
PRODID:-//Squarespace Inc/Squarespace 6//v6//EN
BEGIN:VEVENT
UID:5b5a7a64352f53b212f83f19@squarespace.com
DTSTAMP:20180727T015047Z
DTSTART:20180811T230000Z
DTEND:20180812T070000Z
SUMMARY:SEMI FINALS (week 2)
END:VEVENT
END:VCALENDAR
