BEGIN:VCALENDAR
VERSION:2.0
PRODID:-//Squarespace Inc/Squarespace 6//v6//EN
BEGIN:VEVENT
UID:5b5a7afe70a6ad84f1324d0a@squarespace.com
DTSTAMP:20180727T015344Z
DTSTART:20180729T073000Z
DTEND:20180729T103000Z
SUMMARY:FAMILY NIGHT
END:VEVENT
END:VCALENDAR
