BEGIN:VCALENDAR
VERSION:2.0
PRODID:-//Squarespace Inc/Squarespace 6//v6//EN
BEGIN:VEVENT
UID:5aefc217575d1f581de620c2@squarespace.com
DTSTAMP:20180507T030433Z
DTSTART:20180610T033000Z
DTEND:20180611T043000Z
SUMMARY:Queens Birthday Weekend (no matches)
END:VEVENT
END:VCALENDAR
