BEGIN:VCALENDAR
VERSION:2.0
PRODID:-//Squarespace Inc/Squarespace 6//v6//EN
BEGIN:VEVENT
UID:5aefb21f70a6ad6e397e5fd9@squarespace.com
DTSTAMP:20180521T115841Z
DTSTART:20180602T224500Z
DTEND:20180603T070000Z
SUMMARY:Round 8
END:VEVENT
END:VCALENDAR
