BEGIN:VCALENDAR
VERSION:2.0
PRODID:-//Squarespace Inc/Squarespace 6//v6//EN
BEGIN:VEVENT
UID:5b02b43188251b937661761c@squarespace.com
DTSTAMP:20180521T115756Z
DTSTART:20180623T070000Z
DTEND:20180623T080000Z
SUMMARY:Fundraiser
END:VEVENT
END:VCALENDAR
