BEGIN:VCALENDAR
VERSION:2.0
PRODID:-//Squarespace Inc/Squarespace 6//v6//EN
BEGIN:VEVENT
UID:5aefc134352f535b34e9a27c@squarespace.com
DTSTAMP:20180521T115945Z
DTSTART:20180616T224500Z
DTEND:20180617T070000Z
SUMMARY:Round 9
END:VEVENT
END:VCALENDAR
