BEGIN:VCALENDAR
VERSION:2.0
PRODID:-//Squarespace Inc/Squarespace 6//v6//EN
BEGIN:VEVENT
UID:5aefc1532b6a281d80d374a4@squarespace.com
DTSTAMP:20180521T120034Z
DTSTART:20180630T224500Z
DTEND:20180701T070000Z
SUMMARY:Round 11
END:VEVENT
END:VCALENDAR
