BEGIN:VCALENDAR
VERSION:2.0
PRODID:-//Squarespace Inc/Squarespace 6//v6//EN
BEGIN:VEVENT
UID:5aefc1ac2b6a281d80d380da@squarespace.com
DTSTAMP:20180507T030221Z
DTSTART:20180715T124500Z
DTEND:20180715T210000Z
SUMMARY:Round 12
END:VEVENT
END:VCALENDAR
