BEGIN:VCALENDAR
VERSION:2.0
PRODID:-//Squarespace Inc/Squarespace 6//v6//EN
BEGIN:VEVENT
UID:5aefc1c503ce645868708ff7@squarespace.com
DTSTAMP:20180727T015414Z
DTSTART:20180721T223000Z
DTEND:20180722T064500Z
SUMMARY:Round 13
END:VEVENT
END:VCALENDAR
