BEGIN:VCALENDAR
VERSION:2.0
PRODID:-//Squarespace Inc/Squarespace 6//v6//EN
BEGIN:VEVENT
UID:5aefc1d788251b4d160b6737@squarespace.com
DTSTAMP:20180727T014803Z
DTSTART:20180728T223000Z
DTEND:20180729T064500Z
SUMMARY:Round 14
END:VEVENT
END:VCALENDAR
