BEGIN:VCALENDAR
VERSION:2.0
PRODID:-//Squarespace Inc/Squarespace 6//v6//EN
BEGIN:VEVENT
UID:5aefc1936d2a731f67a4ed29@squarespace.com
DTSTAMP:20180521T120008Z
DTSTART:20180623T224500Z
DTEND:20180624T070000Z
SUMMARY:Round 10
END:VEVENT
END:VCALENDAR
