BEGIN:VCALENDAR
VERSION:2.0
PRODID:-//Squarespace Inc/Squarespace 6//v6//EN
BEGIN:VEVENT
UID:5aefc072352f535b34e9878a@squarespace.com
DTSTAMP:20180511T025955Z
DTSTART:20180526T224500Z
DTEND:20180527T070000Z
SUMMARY:Round 7
END:VEVENT
END:VCALENDAR
