BEGIN:VCALENDAR
VERSION:2.0
PRODID:-//Squarespace Inc/Squarespace 6//v6//EN
BEGIN:VEVENT
UID:5af3029a6d2a73a4cdce3196@squarespace.com
DTSTAMP:20180511T030108Z
DTSTART:20180520T073000Z
DTEND:20180520T103000Z
SUMMARY:FAMILY NIGHT
GEO:-38.022465;145.357306
LOCATION:BJFC\, Buchanan Road\, Berwick\, VIC\, 3806\, Australia
END:VEVENT
END:VCALENDAR
