BEGIN:VCALENDAR
VERSION:2.0
PRODID:-//Squarespace Inc/Squarespace 6//v6//EN
BEGIN:VEVENT
UID:5aefc067575d1f581de5e4cb@squarespace.com
DTSTAMP:20180509T150406Z
DTSTART:20180519T224500Z
DTEND:20180520T070000Z
SUMMARY:Round 6
END:VEVENT
END:VCALENDAR
