BEGIN:VCALENDAR
VERSION:2.0
PRODID:-//Squarespace Inc/Squarespace 6//v6//EN
BEGIN:VEVENT
UID:5af7cc4d8a922da689e0491c@squarespace.com
DTSTAMP:20180513T052542Z
DTSTART:20180517T063000Z
DTEND:20180517T083000Z
SUMMARY:MERCH OPEN
END:VEVENT
END:VCALENDAR
