BEGIN:VCALENDAR
VERSION:2.0
PRODID:-//Squarespace Inc/Squarespace 6//v6//EN
BEGIN:VEVENT
UID:5af7cc3870a6adc5dc185268@squarespace.com
DTSTAMP:20180513T052524Z
DTSTART:20180515T063000Z
DTEND:20180515T083000Z
SUMMARY:MERCH OPEN
END:VEVENT
END:VCALENDAR
