BEGIN:VCALENDAR
VERSION:2.0
PRODID:-//Squarespace Inc/Squarespace 6//v6//EN
BEGIN:VEVENT
UID:5aefc02b758d4670efb6fe67@squarespace.com
DTSTAMP:20180511T030022Z
DTSTART:20180512T224500Z
DTEND:20180513T070000Z
SUMMARY:Round 5 (Mothers Day)
END:VEVENT
END:VCALENDAR
